BEGIN:VCALENDAR
VERSION:2.0
PRODID:-//ChamberMaster//Event Calendar 2.0//EN
METHOD:PUBLISH
X-PUBLISHED-TTL:P3D
REFRESH-INTERVAL:P3D
CALSCALE:GREGORIAN
BEGIN:VEVENT
DTSTART:20150430T230000Z
DTEND:20150501T010000Z
X-MICROSOFT-CDO-ALLDAYEVENT:FALSE
SUMMARY:Brasstown Bell Ringers at John C. Campbell Folk School
DESCRIPTION:Brasstown Bell Ringers - annual springtime hand bell concert!
X-ALT-DESC;FMTTYPE=text/html:<div>Brasstown Bell Ringers - annual springtime hand bell concert!</div>\n
LOCATION:Community Room at John C. Campbell Folk School Brasstown\, NC 28902
UID:e.256.37729
SEQUENCE:3
DTSTAMP:20260423T200533Z
URL:https://members.visitblairsvillega.com/events/details/brasstown-bell-ringers-at-john-c-campbell-folk-school-04-30-2015-37729
END:VEVENT

END:VCALENDAR
