BEGIN:VCALENDAR
VERSION:2.0
PRODID:-//ChamberMaster//Event Calendar 2.0//EN
METHOD:PUBLISH
X-PUBLISHED-TTL:P3D
REFRESH-INTERVAL:P3D
CALSCALE:GREGORIAN
BEGIN:VEVENT
DTSTART:20150605T230000Z
DTEND:20150606T010000Z
X-MICROSOFT-CDO-ALLDAYEVENT:FALSE
SUMMARY:Brasstown Morris Dancers at John C. Campbell Folk School
DESCRIPTION:Brasstown Morris Dancers - colorfully costumed dancers share street dances from Britain
X-ALT-DESC;FMTTYPE=text/html:<div>Brasstown Morris Dancers - colorfully costumed dancers share street dances from Britain</div>\n
LOCATION:Community Room at John C. Campbell Folk School Brasstown\, NC 28902
UID:e.256.37733
SEQUENCE:3
DTSTAMP:20260423T165807Z
URL:https://members.visitblairsvillega.com/events/details/brasstown-morris-dancers-at-john-c-campbell-folk-school-06-05-2015-37733
END:VEVENT

END:VCALENDAR
