BEGIN:VCALENDAR
VERSION:2.0
PRODID:-//ChamberMaster//Event Calendar 2.0//EN
METHOD:PUBLISH
X-PUBLISHED-TTL:P3D
REFRESH-INTERVAL:P3D
CALSCALE:GREGORIAN
BEGIN:VEVENT
DTSTART:20141213T000000Z
DTEND:20141213T010000Z
X-MICROSOFT-CDO-ALLDAYEVENT:FALSE
SUMMARY:Brasstown Ringers Holiday Concert
DESCRIPTION:Brasstown Ringers Annual Holiday Concert
X-ALT-DESC;FMTTYPE=text/html:Brasstown Ringers Annual Holiday Concert
LOCATION:John C Campbell Folk School Community Room Brasstown\, NC
UID:e.256.28099
SEQUENCE:3
DTSTAMP:20260424T033833Z
URL:https://members.visitblairsvillega.com/events/details/brasstown-ringers-holiday-concert-12-12-2014-28099
END:VEVENT

END:VCALENDAR
