BEGIN:VCALENDAR
VERSION:2.0
PRODID:-//ChamberMaster//Event Calendar 2.0//EN
METHOD:PUBLISH
X-PUBLISHED-TTL:P3D
REFRESH-INTERVAL:P3D
CALSCALE:GREGORIAN
BEGIN:VEVENT
DTSTART:20140509T230000Z
DTEND:20140510T000000Z
X-MICROSOFT-CDO-ALLDAYEVENT:FALSE
SUMMARY:Brasstown Ringers' Springtime Celebration
DESCRIPTION:Spring has come to the mountains and we are ready to come out and play!  You are cordially invited to come hear Brasstown Ringers\, an advanced handbell ensemble\, present its 2014 Spring Concert series.  Comprised of ringers from western North Carolina and north Georgia\, Brasstown Ringers will present three concerts in May\, 2014.   Variety and celebration are the keywords for the concert series.  The sacred selections tell special stories such as "By the Lakeside" which is based on the story of Jesus stilling the storm.  "The Syncopated Clock" and "Sway"(also known as "Dance with Me") are based on toe-tapping crowd favorites.  As a special treat\, "Southern Trilogy"\, a piece written specially for Brasstown Ringers by Steve Holcomb\, makes its reappearance.  There's something for everyone to enjoy!
X-ALT-DESC;FMTTYPE=text/html:Spring has come to the mountains and we are ready to come out and play! &nbsp\;You are cordially invited to come hear Brasstown Ringers\, an advanced handbell ensemble\, present its 2014 Spring Concert series. &nbsp\;Comprised of ringers from western North Carolina and north Georgia\, Brasstown Ringers will present three concerts in May\, 2014. &nbsp\; Variety and celebration are the keywords for the concert series. &nbsp\;The sacred selections tell special stories such as &quot\;By the Lakeside&quot\; which is based on the story of Jesus stilling the storm.&nbsp\;&nbsp\;&quot\;The Syncopated Clock&quot\; and &quot\;Sway&quot\;(also known as &quot\;Dance with Me&quot\;) are based on toe-tapping crowd favorites. &nbsp\;As a special treat\, &quot\;Southern Trilogy&quot\;\, a piece written specially for Brasstown Ringers by Steve Holcomb\, makes its reappearance. &nbsp\;There&#39\;s something for everyone to enjoy!
LOCATION:First Baptist Church of Blairsville 296 Blue Ridge St.\, Blairsville\, GA
UID:e.256.24246
SEQUENCE:3
DTSTAMP:20260424T120227Z
URL:https://members.visitblairsvillega.com/events/details/brasstown-ringers-springtime-celebration-05-09-2014-24246
END:VEVENT

END:VCALENDAR
