BEGIN:VCALENDAR
VERSION:2.0
PRODID:-//ChamberMaster//Event Calendar 2.0//EN
METHOD:PUBLISH
X-PUBLISHED-TTL:P3D
REFRESH-INTERVAL:P3D
CALSCALE:GREGORIAN
BEGIN:VEVENT
DTSTART:20141214T210000Z
DTEND:20141214T230000Z
X-MICROSOFT-CDO-ALLDAYEVENT:FALSE
SUMMARY:Brasstown Town Ringers Holiday Concert
DESCRIPTION:The Brasstown Handbell Ringers invites you to come to their last 2014 Holiday Concert on Sunday\, Dec. 14th at Sharp Memorial Methodist \, 1114 Main Street\, Young Harris\, GA\, at 4:00 PM. The concert is free. Donations are gratefully accepted. Contact Info: Dianne Schickedantz\, 828-524-4530 dseverfall@yahoo.com
X-ALT-DESC;FMTTYPE=text/html:The Brasstown Handbell Ringers invites you to come to their last 2014 Holiday Concert on Sunday\, Dec. 14th at Sharp Memorial Methodist \, 1114 Main Street\, Young Harris\, GA\, at 4:00 PM. The concert is free. Donations are gratefully accepted. Contact Info: Dianne Schickedantz\, 828-524-4530 dseverfall@yahoo.com
LOCATION:Sharp Memorial Methodist 1114 Main Street Young Harris\, GA
UID:e.256.28022
SEQUENCE:3
DTSTAMP:20260424T020608Z
URL:https://members.visitblairsvillega.com/events/details/brasstown-town-ringers-holiday-concert-12-14-2014-28022
END:VEVENT

END:VCALENDAR
