BEGIN:VCALENDAR
VERSION:2.0
PRODID:-//ChamberMaster//Event Calendar 2.0//EN
METHOD:PUBLISH
X-PUBLISHED-TTL:P3D
REFRESH-INTERVAL:P3D
CALSCALE:GREGORIAN
BEGIN:VEVENT
DTSTART:20151205T140000Z
DTEND:20151205T153000Z
X-MICROSOFT-CDO-ALLDAYEVENT:FALSE
SUMMARY:Breakfast with Santa
DESCRIPTION:Come join Santa for breakfast!!! Brought to you by United Community Bank.
X-ALT-DESC;FMTTYPE=text/html:Come join Santa for breakfast!!! Brought to you by United Community Bank.
LOCATION:Union County Community Center 129 Union County Recreation Road
UID:e.256.37101
SEQUENCE:3
DTSTAMP:20260421T073811Z
URL:https://members.visitblairsvillega.com/events/details/breakfast-with-santa-12-05-2015-37101
END:VEVENT

END:VCALENDAR
