BEGIN:VCALENDAR
VERSION:2.0
PRODID:-//ChamberMaster//Event Calendar 2.0//EN
METHOD:PUBLISH
X-PUBLISHED-TTL:P3D
REFRESH-INTERVAL:P3D
CALSCALE:GREGORIAN
BEGIN:VEVENT
DTSTART:20141206T140000Z
DTEND:20141206T153000Z
X-MICROSOFT-CDO-ALLDAYEVENT:FALSE
SUMMARY:Breakfast With Santa
DESCRIPTION:The Blairsville-Union County Chamber of Commerce is partnering with United Community Bank in a delicious Breakfast with Santa!  That's right- everyone's favorite Jolly Man in Red will be making a special stop in Blairsville on Saturday\, December 6th for kids 9 and under.  A kid-friendly breakfast will be provided at no charge.  Remember to bring your camera to capture those special moments.
X-ALT-DESC;FMTTYPE=text/html:The Blairsville-Union County Chamber of Commerce is partnering with United Community Bank in a delicious Breakfast with Santa!&nbsp\; That&#39\;s right- everyone&#39\;s favorite Jolly Man in Red will be making a special stop in Blairsville on Saturday\, December 6th for kids 9 and under.&nbsp\; A kid-friendly breakfast will be provided at no charge.&nbsp\; Remember to bring your camera to capture those special moments.
LOCATION:Union County Community Center-Ballroom 129 Union County Rec. Rd.
UID:e.256.27987
SEQUENCE:3
DTSTAMP:20260424T020022Z
URL:https://members.visitblairsvillega.com/events/details/breakfast-with-santa-12-06-2014-27987
END:VEVENT

END:VCALENDAR
