BEGIN:VCALENDAR
VERSION:2.0
PRODID:-//ChamberMaster//Event Calendar 2.0//EN
METHOD:PUBLISH
X-PUBLISHED-TTL:P3D
REFRESH-INTERVAL:P3D
CALSCALE:GREGORIAN
BEGIN:VEVENT
DTSTART:20161203T130000Z
DTEND:20161203T160000Z
X-MICROSOFT-CDO-ALLDAYEVENT:FALSE
SUMMARY:Breakfast with Santa
DESCRIPTION:Young Harris College presents Breakfast with Santa!  The meal will include pancakes\, sausage\, scrambled eggs and a beverage and will be $5.00.  There will be a free climb on the 47 foot Rock Wall and pictures with Santa will be available for $10.00.  A portion of the proceeds will benefit the Make-A-Wish Georgia.
X-ALT-DESC;FMTTYPE=text/html:Young Harris College presents Breakfast with Santa! &nbsp\;The meal will include pancakes\, sausage\, scrambled eggs and a beverage and will be $5.00. &nbsp\;There will be a free climb on the 47 foot Rock Wall and pictures with Santa will be available for $10.00. &nbsp\;A portion of the proceeds will benefit the Make-A-Wish Georgia. &nbsp\;&nbsp\;
LOCATION:Recreation and Fitness Center at Young Harris College
UID:e.256.60497
SEQUENCE:3
DTSTAMP:20260420T092657Z
URL:https://members.visitblairsvillega.com/events/details/breakfast-with-santa-60497
END:VEVENT

END:VCALENDAR
