BEGIN:VCALENDAR
VERSION:2.0
PRODID:-//ChamberMaster//Event Calendar 2.0//EN
METHOD:PUBLISH
X-PUBLISHED-TTL:P3D
REFRESH-INTERVAL:P3D
CALSCALE:GREGORIAN
BEGIN:VEVENT
DTSTART:20140720T180000Z
DTEND:20140720T200000Z
X-MICROSOFT-CDO-ALLDAYEVENT:FALSE
SUMMARY:BRM Rugby
DESCRIPTION:Rugby Summer 7's Season starts in April. Blue Ridge Mountains RFC was established on January 1\, 2012 with the hopes of spreading the great game of rugby to the North Georgia and and Western NC Mountains. The club is a good mix of experienced older players & young athletes just discovering the sport. Players hail from Union\, Fannin\, Towns Counties here in GA\, as well as Cherokee and Clay Counties in NC.  If you're interested in learning more about BRMRFC or the game of rugby\, join our group.  Practice is every Sunday through the end of July.
X-ALT-DESC;FMTTYPE=text/html:Rugby Summer 7&#39\;s Season starts in April. Blue Ridge Mountains RFC was established on January 1\, 2012 with the hopes of spreading the great game of rugby to the North Georgia and and Western NC Mountains. The club is a good mix of experienced older players &amp\; young athletes just discovering the sport. Players hail from Union\, Fannin\, Towns Counties here in GA\, as well as Cherokee and Clay Counties in NC. &nbsp\;If you&#39\;re interested in learning more about BRMRFC or the game of rugby\, join our group. &nbsp\;Practice is every Sunday through the end of July.
LOCATION:Practice will be held in Fannin County at the Rec Park. Contact the club for more details.
UID:e.256.24180
SEQUENCE:3
DTSTAMP:20260424T104048Z
URL:https://members.visitblairsvillega.com/events/details/brm-rugby-07-20-2014-24180
END:VEVENT

END:VCALENDAR
