BEGIN:VCALENDAR
VERSION:2.0
PRODID:-//ChamberMaster//Event Calendar 2.0//EN
METHOD:PUBLISH
X-PUBLISHED-TTL:P3D
REFRESH-INTERVAL:P3D
CALSCALE:GREGORIAN
BEGIN:VEVENT
DTSTART:20150222T000000Z
DTEND:20150222T020000Z
X-MICROSOFT-CDO-ALLDAYEVENT:FALSE
SUMMARY:BRMAA Annual Cork & Canvas Fundraiser
DESCRIPTION:Enjoy savory food provided by local restaurants\, sample tastings from various vintners\, silent auction and live music.  Participate in our Wine Grab raffle and stock your cellar...every ticket is a winner!  All proceeds benefit our BRMAA children's programming such as Summer Youth Art Camp.
X-ALT-DESC;FMTTYPE=text/html:Enjoy savory food provided by local restaurants\, sample tastings from various vintners\, silent auction and live music.&nbsp\; Participate in our Wine Grab raffle and stock your cellar...every ticket is a winner!&nbsp\; All proceeds benefit our BRMAA children&#39\;s programming such as Summer Youth Art Camp.
LOCATION:Blue Ridge Mountains Arts Association 420 W. Main Street Blue Ridge\, Ga 30513
UID:e.256.34625
SEQUENCE:3
DTSTAMP:20260423T225745Z
URL:https://members.visitblairsvillega.com/events/details/brmaa-annual-cork-canvas-fundraiser-02-21-2015-34625
END:VEVENT

END:VCALENDAR
