BEGIN:VCALENDAR
VERSION:2.0
PRODID:-//ChamberMaster//Event Calendar 2.0//EN
METHOD:PUBLISH
X-PUBLISHED-TTL:P3D
REFRESH-INTERVAL:P3D
CALSCALE:GREGORIAN
BEGIN:VEVENT
DTSTART:20150124T210000Z
DTEND:20150124T220000Z
X-MICROSOFT-CDO-ALLDAYEVENT:FALSE
SUMMARY:BRMAA Association's Annual Membership Meeting
DESCRIPTION:Join us and see what is in store for BRMAA and our 35th anniversary celebration & meet your new board members for 2015...all while you enjoy a variety of great chili\, food and the company of fellow art lovers and art association members.  Raffle included.  A special presentation by exhibiting artist Lynn Mayes will guide the membership through our Richard Low Evans gallery and her current exhibit.
X-ALT-DESC;FMTTYPE=text/html:Join us and see what is in store for BRMAA and our 35th anniversary celebration &amp\; meet your new board members for 2015...all while you enjoy a variety of great chili\, food and the company of fellow art lovers and art association members.&nbsp\; Raffle included.&nbsp\; A special presentation by exhibiting artist Lynn Mayes will guide the membership through our Richard Low Evans gallery and her current exhibit.
LOCATION:Blue Ridge Mountains Arts Association 420 W. Main Street Blue Ridge\, Ga 30513
UID:e.256.34624
SEQUENCE:3
DTSTAMP:20260424T020438Z
URL:https://members.visitblairsvillega.com/events/details/brmaa-association-s-annual-membership-meeting-01-24-2015-34624
END:VEVENT

END:VCALENDAR
