BEGIN:VCALENDAR
VERSION:2.0
PRODID:-//ChamberMaster//Event Calendar 2.0//EN
METHOD:PUBLISH
X-PUBLISHED-TTL:P3D
REFRESH-INTERVAL:P3D
CALSCALE:GREGORIAN
BEGIN:VEVENT
DTSTART:20150117T220000Z
DTEND:20150118T000000Z
X-MICROSOFT-CDO-ALLDAYEVENT:FALSE
SUMMARY:BRMAA Double Exhibit Opening Reception
DESCRIPTION:Enjoy light fare and drinks as you surround yourself with our newest exhibits here ar the Art Center.  We are celebrating the dynamic artwork of Lynn Mayes in our Richard Low Evans gallery.  Also\, view the many talents of our 1st quarter Artist in Residence Robyn Cappelli.  One night\, two great artists.  free to the public.
X-ALT-DESC;FMTTYPE=text/html:Enjoy light fare and drinks as you surround yourself with our newest exhibits here ar the Art Center.&nbsp\; We are celebrating the dynamic artwork of Lynn Mayes in our Richard Low Evans gallery.&nbsp\; Also\, view the many talents of our 1st quarter Artist in Residence Robyn Cappelli.&nbsp\; One night\, two great artists.&nbsp\; free to the public.
LOCATION:Blue Ridge Mountains Arts Association 420 W. Main Street Blue Ridge\, Ga 30513
UID:e.256.34623
SEQUENCE:3
DTSTAMP:20260424T002932Z
URL:https://members.visitblairsvillega.com/events/details/brmaa-double-exhibit-opening-reception-01-17-2015-34623
END:VEVENT

END:VCALENDAR
