BEGIN:VCALENDAR
VERSION:2.0
PRODID:-//ChamberMaster//Event Calendar 2.0//EN
METHOD:PUBLISH
X-PUBLISHED-TTL:P3D
REFRESH-INTERVAL:P3D
CALSCALE:GREGORIAN
BEGIN:VEVENT
DTSTART:20150815T140000Z
DTEND:20150815T220000Z
X-MICROSOFT-CDO-ALLDAYEVENT:FALSE
SUMMARY:BRMAA Founders Exhibit
DESCRIPTION:Celebrate the Blue Ridge Mountains Arts Association's 35th Year Anniversary during our Founders Exhibit in August. This exhibit will be comprised of many artworks from several member artists who have helped shape BRMAA into what it is today.  A retrospective exhibit showcasing the individuals and artists who have helped to establish our arts association and keep us strong for the past 35 years. \n\n Closed on Mondays
X-ALT-DESC;FMTTYPE=text/html:<span style="font-size:12pt"><span style="font-family:adobe caslon pro bold\,serif">Celebrate the Blue Ridge Mountains Arts Association&rsquo\;s 35<sup>th</sup> Year Anniversary during our Founders Exhibit in August. This exhibit will be comprised of many artworks from several member artists who have helped shape BRMAA into what it is today. &nbsp\;A retrospective exhibit showcasing the individuals and artists who have helped to establish our arts association and keep us strong for the past 35 years. </span></span><br />\n&nbsp\;Closed on Mondays
LOCATION:The Art Center (Blue Ridge Mountains Arts Association) 420 West Main Street Blue Ridge\, GA 30513
UID:e.256.39054
SEQUENCE:3
DTSTAMP:20260423T151017Z
URL:https://members.visitblairsvillega.com/events/details/brmaa-founders-exhibit-08-15-2015-39054
END:VEVENT

END:VCALENDAR
