BEGIN:VCALENDAR
VERSION:2.0
PRODID:-//ChamberMaster//Event Calendar 2.0//EN
METHOD:PUBLISH
X-PUBLISHED-TTL:P3D
REFRESH-INTERVAL:P3D
CALSCALE:GREGORIAN
BEGIN:VEVENT
DTSTART:20161009T140000Z
DTEND:20161009T220000Z
X-MICROSOFT-CDO-ALLDAYEVENT:FALSE
SUMMARY:BRMAA National Juried Photography Show
DESCRIPTION:This annual national juried show is open to both amateur and professional photographers in film or digital photography. Cash prizes totaling $4\,000 will be awarded. Opening reception and awards ceremony will be September 3\, 5-7pm.
X-ALT-DESC;FMTTYPE=text/html:<span style="font-size: 12pt\;"><span style="font-family: adobe caslon pro bold\,serif\;">This annual national juried show is open to both amateur and professional photographers in film or digital photography. Cash prizes totaling $4\,000 will be awarded. Opening reception and awards ceremony will be September 3\, 5-7pm.</span></span><br>\n&nbsp\;
LOCATION:The Art Center 420 West Main Street Blue Ridge\, GA 30513
UID:e.256.53985
SEQUENCE:3
DTSTAMP:20260420T131640Z
URL:https://members.visitblairsvillega.com/events/details/brmaa-national-juried-photography-show-10-09-2016-53985
END:VEVENT

END:VCALENDAR
