BEGIN:VCALENDAR
VERSION:2.0
PRODID:-//ChamberMaster//Event Calendar 2.0//EN
METHOD:PUBLISH
X-PUBLISHED-TTL:P3D
REFRESH-INTERVAL:P3D
CALSCALE:GREGORIAN
BEGIN:VEVENT
DTSTART:20170323T220000Z
DTEND:20170323T233000Z
X-MICROSOFT-CDO-ALLDAYEVENT:FALSE
SUMMARY:BRMEMC Town Hall Meeting
DESCRIPTION:The Board of Directors of Blue Ridge Mountain EMC will be hosting the following Town Hall Meeting to provide members with the opportunity to ask questions and present concerns to your EMC Board.
X-ALT-DESC;FMTTYPE=text/html:The Board of Directors of Blue Ridge Mountain EMC will be hosting the following Town Hall Meeting to provide members with the opportunity to ask questions and present concerns to your EMC Board.
LOCATION:North Georgia Technical College Conference Room 121 Meeks Avenue Blairsville GA 30512
UID:e.256.69118
SEQUENCE:3
DTSTAMP:20260420T042413Z
URL:https://members.visitblairsvillega.com/events/details/brmemc-town-hall-meeting-69118
END:VEVENT

END:VCALENDAR
