BEGIN:VCALENDAR
VERSION:2.0
PRODID:-//ChamberMaster//Event Calendar 2.0//EN
METHOD:PUBLISH
X-PUBLISHED-TTL:P3D
REFRESH-INTERVAL:P3D
CALSCALE:GREGORIAN
BEGIN:VEVENT
DTSTART:20140907T140000Z
DTEND:20140907T220000Z
X-MICROSOFT-CDO-ALLDAYEVENT:FALSE
SUMMARY:BRMP National Juried Photography Show
DESCRIPTION:This annual juried show is open to both amateur and professional photographers in film or digital photography.  Cash prizes available. For more information and entry deadlines please visit www.blueridgemountainphotographers.com. Opening reception\, September 6\, 5 - 7pm.
X-ALT-DESC;FMTTYPE=text/html:<span style="font-size: medium\;">&nbsp\;</span><br />\n<span style="font-size: 12pt\;"><span style="font-family: adobe caslon pro bold\,serif\;">This annual juried show is open to both amateur and professional photographers in film or digital photography.&nbsp\; Cash prizes available. For more information and entry deadlines please visit </span></span><a href="http://www.blueridgemountainphotographers.com/"><span style="font-size: 12pt\;"><span style="font-family: adobe caslon pro bold\,serif\;"><span style="color: rgb(0\, 102\, 255)\;">www.blueridgemountainphotographers.com</span></span></span></a><span style="font-size: 12pt\;"><span style="font-family: adobe caslon pro bold\,serif\;">. Opening reception\, September 6\, 5 - 7pm.</span></span><br />\n<br type="_moz" />\n
LOCATION:Blue Ridge Mountains Arts Association (The Art Center) 420 West Main Street Blue Ridge\, GA 30513
UID:e.256.22836
SEQUENCE:3
DTSTAMP:20260424T063233Z
URL:https://members.visitblairsvillega.com/events/details/brmp-national-juried-photography-show-09-07-2014-22836
END:VEVENT

END:VCALENDAR
