BEGIN:VCALENDAR
VERSION:2.0
PRODID:-//ChamberMaster//Event Calendar 2.0//EN
METHOD:PUBLISH
X-PUBLISHED-TTL:P3D
REFRESH-INTERVAL:P3D
CALSCALE:GREGORIAN
BEGIN:VEVENT
DTSTART:20160821T150000Z
DTEND:20160821T180000Z
X-MICROSOFT-CDO-ALLDAYEVENT:FALSE
SUMMARY:Brunch on the Beach
DESCRIPTION:Come join us on Sundays for Brunch on the Beach and Live Music at the Sand Bar\n\nCheck us out on our Facebook page!
X-ALT-DESC;FMTTYPE=text/html:Come join us on Sundays for Brunch on the Beach and Live Music at the Sand Bar<br />\nCheck us out on our Facebook page!
LOCATION:
UID:e.256.51892
SEQUENCE:3
DTSTAMP:20260420T162335Z
URL:https://members.visitblairsvillega.com/events/details/brunch-on-the-beach-08-21-2016-51892
END:VEVENT

END:VCALENDAR
