BEGIN:VCALENDAR
VERSION:2.0
PRODID:-//ChamberMaster//Event Calendar 2.0//EN
METHOD:PUBLISH
X-PUBLISHED-TTL:P3D
REFRESH-INTERVAL:P3D
CALSCALE:GREGORIAN
BEGIN:VEVENT
DTSTART:20161021T223000Z
DTEND:20161022T003000Z
X-MICROSOFT-CDO-ALLDAYEVENT:FALSE
SUMMARY:Building Bridges of Hope - A Weekend with Laura Petherbridge
DESCRIPTION:Marriage Without Masks - Revealing Truth About Relationships.  This program is designed for anyone including singles\, single-again\, dating\, engaged and married couples\, this event offers a very unique perspective on marriage and relationships.
X-ALT-DESC;FMTTYPE=text/html:Marriage Without Masks - Revealing Truth About Relationships. &nbsp\;This program is designed for anyone including&nbsp\;singles\, single-again\, dating\, engaged and married couples\, this event offers a very unique perspective on marriage and relationships.
LOCATION:McConnell Memorial Baptist Church\, Young Harris Georgia
UID:e.256.55533
SEQUENCE:3
DTSTAMP:20260420T145223Z
URL:https://members.visitblairsvillega.com/events/details/building-bridges-of-hope-a-weekend-with-laura-petherbridge-10-21-2016-55533
END:VEVENT

END:VCALENDAR
