BEGIN:VCALENDAR
VERSION:2.0
PRODID:-//ChamberMaster//Event Calendar 2.0//EN
METHOD:PUBLISH
X-PUBLISHED-TTL:P3D
REFRESH-INTERVAL:P3D
CALSCALE:GREGORIAN
BEGIN:VEVENT
DTSTART:20161022T130000Z
DTEND:20161022T170000Z
X-MICROSOFT-CDO-ALLDAYEVENT:FALSE
SUMMARY:Building Bridges of Hope - A Weekend with Laura Petherbridge
DESCRIPTION:Thriving in a Stepfamily - Help and Hope for Remarriage.  A remarriage often presents unique situations that don't appear until after the "I Do."  This workshop is designed for single parents or anyone who is dating\, engaged\, or married to a person with children.
X-ALT-DESC;FMTTYPE=text/html:Thriving in a Stepfamily - Help and Hope for Remarriage. &nbsp\;A remarriage often presents unique situations that don&#39\;t appear until after the &quot\;I Do.&quot\; &nbsp\;This workshop is designed for single parents or anyone who is dating\, engaged\, or married to a person with children. &nbsp\;
LOCATION:McConnell Memorial Baptist Church\, Young Harris Georgia
UID:e.256.55535
SEQUENCE:3
DTSTAMP:20260420T145221Z
URL:https://members.visitblairsvillega.com/events/details/building-bridges-of-hope-a-weekend-with-laura-petherbridge-10-22-2016-55535
END:VEVENT

END:VCALENDAR
