BEGIN:VCALENDAR
VERSION:2.0
PRODID:-//ChamberMaster//Event Calendar 2.0//EN
METHOD:PUBLISH
X-PUBLISHED-TTL:P3D
REFRESH-INTERVAL:P3D
CALSCALE:GREGORIAN
BEGIN:VEVENT
DTSTART:20160702T230000Z
DTEND:20160703T020000Z
X-MICROSOFT-CDO-ALLDAYEVENT:FALSE
SUMMARY:Bulletproof Concert
DESCRIPTION:Celebrate the Fourth of July weekend in style at the yearly Crane Creek Vineyards concert by Bulletproof! One of our very favorite events at Crane Creek so bring your lawn chairs and blankets\, kick off your shoes and dance the night away! No admission charge!
X-ALT-DESC;FMTTYPE=text/html:Celebrate the Fourth of July weekend in style at the yearly Crane Creek Vineyards concert by Bulletproof! One of our very favorite events at Crane Creek so bring your lawn chairs and blankets\, kick off your shoes and dance the night away! No admission charge!
LOCATION:Crane Creek Vineyards 916 Crane Creek Road Young Harris\, GA 30582
UID:e.256.51258
SEQUENCE:3
DTSTAMP:20260420T183616Z
URL:https://members.visitblairsvillega.com/events/details/bulletproof-concert-07-02-2016-51258
END:VEVENT

END:VCALENDAR
