BEGIN:VCALENDAR
VERSION:2.0
PRODID:-//ChamberMaster//Event Calendar 2.0//EN
METHOD:PUBLISH
X-PUBLISHED-TTL:P3D
REFRESH-INTERVAL:P3D
CALSCALE:GREGORIAN
BEGIN:VEVENT
DTSTART:20150703T230000Z
DTEND:20150704T030000Z
X-MICROSOFT-CDO-ALLDAYEVENT:FALSE
SUMMARY:Bulletproof Concert
DESCRIPTION:Start off your holiday weekend at Crane Creek Vineyards for the annual Bulletproof concert! Year to year\, this is one of Crane Creek's events that you don't want to miss out on. Bulletproof\, never fails to provide a night of music that keeps folks on their feet and dancing through the night. Bring your lawn chairs\, blankets\, appetites\, and bare feet and enjoy the evening. There is no cover charge for this event. The tasting room will be open throughout the night for wine purchases. Hotdogs and hamburgers will be available for purchase straight off the grill throughout the night. NO RESERVATIONS NEEDED
X-ALT-DESC;FMTTYPE=text/html:Start off your holiday weekend at Crane Creek Vineyards for the annual Bulletproof concert! Year to year\, this is one of Crane Creek&#39\;s events that you don&#39\;t want to miss out on. Bulletproof\, never fails to provide a night of music that keeps folks on their feet and dancing through the night. Bring your lawn chairs\, blankets\, appetites\, and bare feet and enjoy the evening. There is no cover charge for this event. The tasting room will be open throughout the night for wine purchases. Hotdogs and hamburgers will be available for purchase straight off the grill throughout the night. NO RESERVATIONS NEEDED
LOCATION:Crane Creek Vineyards 916 Crane Creek Road Young Harris\, GA 30582
UID:e.256.40374
SEQUENCE:3
DTSTAMP:20260423T151022Z
URL:https://members.visitblairsvillega.com/events/details/bulletproof-concert-07-03-2015-40374
END:VEVENT

END:VCALENDAR
