BEGIN:VCALENDAR
VERSION:2.0
PRODID:-//ChamberMaster//Event Calendar 2.0//EN
METHOD:PUBLISH
X-PUBLISHED-TTL:P3D
REFRESH-INTERVAL:P3D
CALSCALE:GREGORIAN
BEGIN:VEVENT
DTSTART:20170701T230000Z
DTEND:20170702T030000Z
X-MICROSOFT-CDO-ALLDAYEVENT:FALSE
SUMMARY:Bulletproof Concert
DESCRIPTION:One of our favorites events at Crane Creek! Start off your July 4th Celebration with our Annual Bulletproof Concert! No reservations required and no entrance fee! This great Atlanta showband will entertain guests all evening. Wine and beer as well as hamburgers and hotdogs available for purchase. Please no outside alcohol. Bring your chairs and blankets and be ready to hang out and dance the evening away!
X-ALT-DESC;FMTTYPE=text/html:One of our favorites events at Crane Creek! Start off your July 4th Celebration with our Annual Bulletproof Concert! No reservations required and no entrance fee! This great Atlanta showband will entertain guests all evening. Wine and beer as well as hamburgers and hotdogs available for purchase. Please no outside alcohol. Bring your chairs and blankets and be ready to hang out and dance the evening away!
LOCATION:Crane Creek Vineyards 916 Crane Creek Road Young Harris\, GA 30582
UID:e.256.62222
SEQUENCE:3
DTSTAMP:20260419T212506Z
URL:https://members.visitblairsvillega.com/events/details/bulletproof-concert-62222
END:VEVENT

END:VCALENDAR
