BEGIN:VCALENDAR
VERSION:2.0
PRODID:-//ChamberMaster//Event Calendar 2.0//EN
METHOD:PUBLISH
X-PUBLISHED-TTL:P3D
REFRESH-INTERVAL:P3D
CALSCALE:GREGORIAN
BEGIN:VEVENT
DTSTART:20151008T213000Z
DTEND:20151008T230000Z
X-MICROSOFT-CDO-ALLDAYEVENT:FALSE
SUMMARY:Business After Hours
DESCRIPTION:It's that time of year again for another Business After Hours / Business of the Quarter event at the Blairsville-Union County Community Center.  Spend an evening meeting other business owners will enjoying the creative catering of  Amazing Grace Catering. We're proud to announce the Business of the Quarter\, Logan Turnpike Mill and our sponsor Windstream.
X-ALT-DESC;FMTTYPE=text/html:It&#39\;s that time of year again for another Business After Hours / Business of the Quarter event at the Blairsville-Union County Community Center.&nbsp\; Spend an evening meeting other business owners will enjoying the creative catering of&nbsp\; Amazing Grace Catering. We&#39\;re proud to announce the Business of the Quarter\, Logan Turnpike Mill and our sponsor Windstream.
LOCATION:Blairsville-Union County Community Center 129 Union County Recreation Road Blairsville\, GA 30512
UID:e.256.37461
SEQUENCE:3
DTSTAMP:20260423T102541Z
URL:https://members.visitblairsvillega.com/events/details/business-after-hours-10-08-2015-37461
END:VEVENT

END:VCALENDAR
