BEGIN:VCALENDAR
VERSION:2.0
PRODID:-//ChamberMaster//Event Calendar 2.0//EN
METHOD:PUBLISH
X-PUBLISHED-TTL:P3D
REFRESH-INTERVAL:P3D
CALSCALE:GREGORIAN
BEGIN:VEVENT
DTSTART:20170720T213000Z
DTEND:20170720T230000Z
X-MICROSOFT-CDO-ALLDAYEVENT:FALSE
SUMMARY:Business After Hours - Business of the Quarter
DESCRIPTION:Join us for the next Business After Hours/Business of the Quarter event!\n\n\n\nWe will be honoring \n\nBlue Ridge Mountain Electric Membership Corporation\n\nas\n\n"Business of the Quarter"\n\n\n\nThe "Business of the Quarter" honors local businesses that add value to our community by:\n\nInvesting in the City\n\nCaring for their customers\n\nCaring for our community\n\nGetting involved!\n\n\n\nHosting and Sponsoring the event:\n\nYoung Harris Water Sports\n\n\n\nThis is a FREE networking event for Chamber Members. \n\nBring your business cards and get ready to have a great time!
X-ALT-DESC;FMTTYPE=text/html:<div style="text-align: center\;">\n<div style="text-align: center\;">\n<div>\n<p align="center" style="margin: 0px\; text-align: center\; line-height: normal\;"><br />\n<span style="font-size:14px\;"><strong><span style="font-family:calibri light\,sans-serif\;">Join us&nbsp\;for the next Business After Hours/Business of the Quarter event!</span></strong><br />\n<br />\n<span style="font-family:calibri light\,sans-serif\;"><strong>We will be honoring </strong></span><br />\n<strong><em><span style="font-family:calibri light\,sans-serif\;"><span style="color:#2f5496\;">Blue Ridge Mountain Electric Membership Corporation</span></span></em></strong><br />\n<strong><span style="font-family:calibri light\,sans-serif\;">as</span></strong><br />\n<strong><span style="font-family:calibri light\,sans-serif\;">&ldquo\;Business of the Quarter&rdquo\;</span></strong><br />\n<br />\n<span style="font-family:calibri light\,sans-serif\;">The&nbsp\;&quot\;Business of the Quarter&quot\;&nbsp\;honors local businesses that add value to our community by:</span><br />\n<span style="font-family:calibri light\,sans-serif\;">Investing in the City</span><br />\n<span style="font-family:calibri light\,sans-serif\;">Caring for their customers</span><br />\n<span style="font-family:calibri light\,sans-serif\;">Caring for our community</span><br />\n<span style="font-family:calibri light\,sans-serif\;">Getting involved!</span><br />\n<br />\n<span style="font-family:calibri light\,sans-serif\;"><strong><span style="color:#2f5496\;">Hosting and Sponsoring the event:</span></strong></span><br />\n<strong><em><span style="font-family:calibri light\,sans-serif\;"><span style="color:#2f5496\;">Young Harris Water Sports</span></span></em></strong><br />\n<br />\n<span style="font-family:calibri light\,sans-serif\;">This is a FREE networking event for Chamber Members. </span><br />\n<span style="font-family:calibri light\,sans-serif\;">Bring your business cards&nbsp\;and get ready to have a great time! &nbsp\;</span><br />\n&nbsp\;</span><br />\n&nbsp\;</p>\n</div>\n</div>\n</div>\n
LOCATION:Young Harris Water Sports
UID:e.256.75218
SEQUENCE:3
DTSTAMP:20260419T230254Z
URL:https://members.visitblairsvillega.com/events/details/business-after-hours-business-of-the-quarter-75218
END:VEVENT

END:VCALENDAR
