BEGIN:VCALENDAR
VERSION:2.0
PRODID:-//ChamberMaster//Event Calendar 2.0//EN
METHOD:PUBLISH
X-PUBLISHED-TTL:P3D
REFRESH-INTERVAL:P3D
CALSCALE:GREGORIAN
BEGIN:VEVENT
DTSTART:20141002T120000Z
DTEND:20141002T153000Z
X-MICROSOFT-CDO-ALLDAYEVENT:FALSE
SUMMARY:Business Leaders/Volunteers needed for The Reality Store Event at UCHS
DESCRIPTION:Thursday\, October 2\, 2014 8 - 11:30 am UCHS Gymnasium All 9th Grade Students will participate in this event. The Reality Store is designed to encourage teens to think about their future and to visualize how their career choices will affect their economic well-being. Community business leaders/volunteers are needed for this event. Please contact Amy Williams for more information awilliams@ucschools.org 706.781.4742
X-ALT-DESC;FMTTYPE=text/html:Thursday\, October 2\, 2014 8&nbsp\;- 11:30 am UCHS Gymnasium All 9th Grade Students will participate in this event. The Reality Store is designed to encourage teens to think about their future and to visualize how their career choices will affect their economic well-being. Community business leaders/volunteers are needed for this event. Please contact Amy Williams for more information awilliams@ucschools.org 706.781.4742
LOCATION:Union County High School
UID:e.256.27326
SEQUENCE:3
DTSTAMP:20260424T045825Z
URL:https://members.visitblairsvillega.com/events/details/business-leaders-volunteers-needed-for-the-reality-store-event-at-uchs-10-02-2014-27326
END:VEVENT

END:VCALENDAR
