BEGIN:VCALENDAR
VERSION:2.0
PRODID:-//ChamberMaster//Event Calendar 2.0//EN
METHOD:PUBLISH
X-PUBLISHED-TTL:P3D
REFRESH-INTERVAL:P3D
CALSCALE:GREGORIAN
BEGIN:VEVENT
DTSTART:20171130T140000Z
DTEND:20171209T220000Z
X-MICROSOFT-CDO-ALLDAYEVENT:FALSE
SUMMARY:Buy Local at Candles by Jean
DESCRIPTION:Bring in your Local Buy Value Card to Candles by Jean (we have the Buy Local Value Card in our Candle Shop) and see the Dollars that you can save today!  ---  $SAVE AT CANDLES BY JEAN$
X-ALT-DESC;FMTTYPE=text/html:Bring in your Local Buy Value Card to Candles by Jean (we have the Buy Local Value Card in our Candle Shop) and see the Dollars that you can save today! &nbsp\;--- &nbsp\;$SAVE AT CANDLES BY JEAN$<br />\n&nbsp\;
LOCATION:Candles by Jean 1779 Murphy Hwy.\, Blairsville\, GA
UID:e.256.77049
SEQUENCE:3
DTSTAMP:20260419T122210Z
URL:https://members.visitblairsvillega.com/events/details/buy-local-at-candles-by-jean-77049
END:VEVENT

END:VCALENDAR
