BEGIN:VCALENDAR
VERSION:2.0
PRODID:-//ChamberMaster//Event Calendar 2.0//EN
METHOD:PUBLISH
X-PUBLISHED-TTL:P3D
REFRESH-INTERVAL:P3D
CALSCALE:GREGORIAN
BEGIN:VEVENT
DTSTART:20160827T140000Z
DTEND:20160827T180000Z
X-MICROSOFT-CDO-ALLDAYEVENT:FALSE
SUMMARY:Buy Local Event at The Hackney Warehouse
DESCRIPTION:Show Your Love for Local!\n\n\n\nThe Hackney Warehouse invites you to come out and support LOCAL businesses \n\n\n\n* Local Arts and Crafts\n\n* Shopping\n\n* Food\n\n* Music\n\n* Fun for the Family\n\nVendor Spaces Available
X-ALT-DESC;FMTTYPE=text/html:Show Your Love for Local!<br />\n<br />\nThe Hackney Warehouse invites you to come out and support LOCAL businesses&nbsp\;<br />\n<br />\n* Local Arts and Crafts<br />\n* Shopping<br />\n* Food<br />\n* Music<br />\n* Fun for the Family<br />\nVendor Spaces Available
LOCATION:11 Railroad Street Murphy\, North Carolina
UID:e.256.55588
SEQUENCE:3
DTSTAMP:20260420T164702Z
URL:https://members.visitblairsvillega.com/events/details/buy-local-event-at-the-hackney-warehouse-08-27-2016-55588
END:VEVENT

END:VCALENDAR
