BEGIN:VCALENDAR
VERSION:2.0
PRODID:-//ChamberMaster//Event Calendar 2.0//EN
METHOD:PUBLISH
X-PUBLISHED-TTL:P3D
REFRESH-INTERVAL:P3D
CALSCALE:GREGORIAN
BEGIN:VEVENT
DTSTART:20150430T210000Z
DTEND:20150430T230000Z
X-MICROSOFT-CDO-ALLDAYEVENT:FALSE
SUMMARY:Buy Local Extravaganza
DESCRIPTION:The Blairsville-Union County Chamber of Commerce \n\nwould like to invite you to our Buy Local Extravaganza!\n\n\n\nThursday\, April 30th 2015\n\nUnion County Community Center\n\n5:00pm - 7:00pm\n\n\n\nDon't miss an opportunity to win one of \n\nTHE DOOR PRIZES\n\n\n\nGive Aways* Sample Tastings * Business Contacts\n\n\n\nThis is a great opportunity to re-discover \n\nChamber Member businesses.\n\n\n\nThis will be the \n\nChamber's biggest networking event of the year.\n\n\n\nMake plans now to attend!!
X-ALT-DESC;FMTTYPE=text/html:<p style="text-align: center\;"><span style="font-size: 12px\;"><strong><span style="font-family: verdana\;"><span style="font-size: 14px\;"><strong><span style="font-variant: small-caps\;"><span style="font-size: 10pt\;"><span style="color: rgb(34\, 34\, 34)\;"><span style="font-family: arial\, sans-serif\;">The Blairsville-Union County Chamber of Commerce </span></span></span></span></strong><br />\n<strong><span style="font-variant: small-caps\;"><span style="font-size: 10pt\;"><span style="color: rgb(34\, 34\, 34)\;"><span style="font-family: arial\, sans-serif\;">would like to invite you to our Buy Local Extravaganza!</span></span></span></span></strong><br />\n<br />\n<strong><span style="font-variant: small-caps\;"><span style="font-size: 18pt\;"><span style="color: rgb(192\, 0\, 0)\;"><span style="font-family: arial\, sans-serif\;">Thursday\, April 30th 2015</span></span></span></span></strong><br />\n<strong><span style="font-variant: small-caps\;"><span style="font-size: 10pt\;"><span style="color: rgb(34\, 34\, 34)\;"><span style="font-family: arial\, sans-serif\;">Union County Community Center</span></span></span></span></strong><br />\n<strong><span style="font-variant: small-caps\;"><span style="font-size: 18pt\;"><span style="font-size: 24px\;"><span style="color: rgb(178\, 34\, 34)\;"><span style="font-family: arial\, sans-serif\;">5</span></span></span><span style="color: rgb(192\, 0\, 0)\;"><span style="font-family: arial\, sans-serif\;">:</span></span></span></span></strong><span style="font-variant: small-caps\;"><strong><span style="font-variant: small-caps\;"><span style="font-size: 18pt\;"><span style="color: rgb(192\, 0\, 0)\;"><span style="font-family: arial\, sans-serif\;">00pm </span></span></span></span></strong></span><strong><span style="font-variant: small-caps\;"><span style="font-size: 18pt\;"><span style="color: rgb(192\, 0\, 0)\;"><span style="font-family: arial\, sans-serif\;">- 7:</span></span></span></span></strong><span style="font-variant: small-caps\;"><strong><span style="font-variant: small-caps\;"><span style="font-size: 18pt\;"><span style="color: rgb(192\, 0\, 0)\;"><span style="font-family: arial\, sans-serif\;">00pm</span></span></span></span></strong></span><br />\n<br />\n<strong><span style="font-variant: small-caps\;"><span style="font-size: 10pt\;"><span style="color: rgb(34\, 34\, 34)\;"><span style="font-family: arial\, sans-serif\;">Don&#39\;t miss an opportunity to win one of&nbsp\;</span></span></span></span></strong><br />\n<strong><span style="font-variant: small-caps\;"><span style="font-size: 18pt\;"><span style="color: rgb(192\, 0\, 0)\;"><span style="font-family: arial\, sans-serif\;">THE DOOR PRIZES</span></span></span></span></strong><br />\n<br />\n<strong><span style="font-variant: small-caps\;"><span style="font-size: 14pt\;"><span style="color: rgb(34\, 34\, 34)\;"><span style="font-family: arial\, sans-serif\;">Give </span></span></span></span></strong><span style="font-variant: small-caps\;"><strong><span style="font-variant: small-caps\;"><span style="font-size: 14pt\;"><span style="color: rgb(34\, 34\, 34)\;"><span style="font-family: arial\, sans-serif\;">Aways</span></span></span></span></strong></span><strong><span style="font-variant: small-caps\;"><span style="font-size: 14pt\;"><span style="color: rgb(34\, 34\, 34)\;"><span style="font-family: arial\, sans-serif\;">* Sample Tastings * Business Contacts</span></span></span></span></strong><br />\n<br />\n<strong><span style="font-variant: small-caps\;"><span style="font-size: 10pt\;"><span style="color: rgb(34\, 34\, 34)\;"><span style="font-family: arial\, sans-serif\;">This is a great opportunity to re-discover </span></span></span></span></strong><br />\n<span style="font-variant: small-caps\;"><span style="font-size: 10pt\;"><span style="color: rgb(34\, 34\, 34)\;"><span style="font-family: arial\, sans-serif\;"><strong><span style="font-family: arial\, sans-serif\;">Chamber Member businesses.</span></strong></span></span></span></span><br />\n<br />\n<strong><em><span style="font-variant: small-caps\;"><span style="font-size: 14pt\;"><span style="color: rgb(153\, 0\, 51)\;"><span style="font-family: arial\, sans-serif\;">This will be the </span></span></span></span></em></strong><br />\n<strong><em><span style="font-variant: small-caps\;"><span style="font-size: 14pt\;"><span style="color: rgb(153\, 0\, 51)\;"><span style="font-family: arial\, sans-serif\;">Chamber&#39\;s biggest networking event of the year.</span></span></span></span></em></strong><br />\n<br />\n<span style="font-variant: small-caps\;"><span style="font-size: 14pt\;"><span style="color: rgb(34\, 34\, 34)\;"><span style="font-family: arial\, sans-serif\;"><em><strong><u><span style="font-family: arial\, sans-serif\;">Make plans now to attend!!</span></u></strong></em></span></span></span></span></span></span></strong></span><br />\n<br />\n<br />\n&nbsp\;</p>\n
LOCATION:Union County Community Center 129 Union County Recreation Rd Blairsville\, Ga
UID:e.256.18529
SEQUENCE:3
DTSTAMP:20260423T200141Z
URL:https://members.visitblairsvillega.com/events/details/buy-local-extravaganza-04-30-2015-18529
END:VEVENT

END:VCALENDAR
