BEGIN:VCALENDAR
VERSION:2.0
PRODID:-//ChamberMaster//Event Calendar 2.0//EN
METHOD:PUBLISH
X-PUBLISHED-TTL:P3D
REFRESH-INTERVAL:P3D
CALSCALE:GREGORIAN
BEGIN:VEVENT
DTSTART:20170705T130000Z
DTEND:20170705T210000Z
X-MICROSOFT-CDO-ALLDAYEVENT:FALSE
SUMMARY:BUY LOCAL WEEK
DESCRIPTION:BUY LOCAL WEEK\n\nJuly 1st through 8th.\n\nSpend it Here\, Keep it here Eat\, Shop\, Play & Stay  Local \n\nBlairsville - Union County Local Businesses will have DISCOUNTS ranging from "buy one get one free" deals to 50% off items!\n\nVisit www.VisitBlairsvilleGA.com & SUBSCRIBE TODAY to get your FREE e-coupon Newsletter of the listed advertisements. Click the "Request Newsletter" then select "Buy Local Coupons & Events"
X-ALT-DESC;FMTTYPE=text/html:<em><strong>BUY LOCAL WEEK</strong></em><br />\n<strong>July 1st through 8th.<br />\nSpend it Here\, Keep it here Eat\, Shop\, Play &amp\; Stay</strong>&nbsp\; <strong>Local </strong><br />\nBlairsville - Union County Local Businesses will have DISCOUNTS ranging from &quot\;<strong>buy one get one free&quot\;</strong> deals to <strong>50% off </strong>items!<br />\nVisit www.VisitBlairsvilleGA.com &amp\; SUBSCRIBE TODAY to get your FREE e-coupon Newsletter of the listed advertisements. Click the &quot\;Request Newsletter&quot\; then select &quot\;Buy Local Coupons &amp\; Events&quot\;
LOCATION:Blairsville - Union County Local Businesses Independent Consultants will be located in Community Center.
UID:e.256.75211
SEQUENCE:3
DTSTAMP:20260419T212553Z
URL:https://members.visitblairsvillega.com/events/details/buy-local-week-07-05-2017-75211
END:VEVENT

END:VCALENDAR
