BEGIN:VCALENDAR
VERSION:2.0
PRODID:-//ChamberMaster//Event Calendar 2.0//EN
METHOD:PUBLISH
X-PUBLISHED-TTL:P3D
REFRESH-INTERVAL:P3D
CALSCALE:GREGORIAN
BEGIN:VEVENT
DTSTART:20170923T140000Z
DTEND:20170923T200000Z
X-MICROSOFT-CDO-ALLDAYEVENT:FALSE
SUMMARY:Byron Herbert Reece Centennial Festival of Remembrance
DESCRIPTION:Join us as we celebrate the 100th anniversary of the birth of Byron Herbert Reece with special speakers\, events\, and music on Saturday\, September 23\, 2017 from 10 a.m. to 4 p.m. at the Reece Farm and Heritage Center\n\nHighlights will include:\n\n\n	Barbeque and fixings from Evie's Trolley\n	The North Georgia Chamber Symphony Quartet performing Reece favorites  \n	Readers Theatre dramatic reading from a 1979 project at Young Harris College  \n	Remarks by Pastor Jan Devereaux\, who knew Reece's brother  \n	Remarks by John Kay\, founding Chairman of the Reece Society  \n	Information on the dedication of the Reece commemorative granite marker at the Reece Park on Blood Mountain\n\n\nMore coming soon!  Mark your calendars and plan to spend the day enjoying the mountains and honoring the life and talent of this native son.
X-ALT-DESC;FMTTYPE=text/html:<p style="border: 0px\; margin: 0px 0px 15px\; outline: 0px\; padding: 0px\; vertical-align: baseline\; font-family: Georgia\, &quot\;Bitstream Charter&quot\;\, serif\; font-size: 14px\;">Join us as we celebrate the&nbsp\;<strong style="border: 0px\; font-style: inherit\; margin: 0px\; outline: 0px\; padding: 0px\; vertical-align: baseline\;">100th anniversary of the birth of Byron Herbert Reece</strong>&nbsp\;with special speakers\, events\, and music on&nbsp\;<strong style="border: 0px\; font-style: inherit\; margin: 0px\; outline: 0px\; padding: 0px\; vertical-align: baseline\;">Saturday\, September 23\, 2017 from 10 a.m. to 4 p.m. at the Reece Farm and Heritage Center</strong></p>\n\n<p style="border: 0px\; margin: 0px 0px 15px\; outline: 0px\; padding: 0px\; vertical-align: baseline\; font-family: Georgia\, &quot\;Bitstream Charter&quot\;\, serif\; font-size: 14px\;">Highlights will include:</p>\n\n<ul style="border: 0px\; margin: 0px 0px 1.7em 2.5em\; outline: 0px\; padding-right: 0px\; padding-left: 0px\; vertical-align: baseline\; list-style: square\; font-family: Georgia\, &quot\;Bitstream Charter&quot\;\, serif\; font-size: 14px\;">\n	<li style="border: 0px\; font-style: inherit\; font-weight: inherit\; margin: 0px\; outline: 0px\; padding: 0px\; vertical-align: baseline\;">Barbeque and fixings from Evie&rsquo\;s Trolley</li>\n	<li style="border: 0px\; font-style: inherit\; font-weight: inherit\; margin: 0px\; outline: 0px\; padding: 0px\; vertical-align: baseline\;">The North Georgia Chamber Symphony Quartet performing Reece favorites &hellip\;</li>\n	<li style="border: 0px\; font-style: inherit\; font-weight: inherit\; margin: 0px\; outline: 0px\; padding: 0px\; vertical-align: baseline\;">Readers Theatre dramatic reading from a 1979 project at Young Harris College &hellip\;</li>\n	<li style="border: 0px\; font-style: inherit\; font-weight: inherit\; margin: 0px\; outline: 0px\; padding: 0px\; vertical-align: baseline\;">Remarks by Pastor Jan Devereaux\, who knew Reece&rsquo\;s brother &hellip\;</li>\n	<li style="border: 0px\; font-style: inherit\; font-weight: inherit\; margin: 0px\; outline: 0px\; padding: 0px\; vertical-align: baseline\;">Remarks by John Kay\, founding Chairman of the Reece Society &hellip\;</li>\n	<li style="border: 0px\; font-style: inherit\; font-weight: inherit\; margin: 0px\; outline: 0px\; padding: 0px\; vertical-align: baseline\;">Information on the dedication of the Reece commemorative granite marker at the Reece Park on Blood Mountain</li>\n</ul>\n\n<p style="border: 0px\; margin: 0px 0px 15px\; outline: 0px\; padding: 0px\; vertical-align: baseline\; font-family: Georgia\, &quot\;Bitstream Charter&quot\;\, serif\; font-size: 14px\;">More coming soon!&nbsp\; Mark your calendars and plan to spend the day enjoying the mountains and honoring the life and talent of this native son.</p>\n
LOCATION:Byron Herbert Reece Farm & Heritage Center 8552 Gainesville Highway Blairsville\, GA 30512
UID:e.256.75728
SEQUENCE:3
DTSTAMP:20260419T175956Z
URL:https://members.visitblairsvillega.com/events/details/byron-herbert-reece-centennial-festival-of-remembrance-75728
END:VEVENT

END:VCALENDAR
