BEGIN:VCALENDAR
VERSION:2.0
PRODID:-//ChamberMaster//Event Calendar 2.0//EN
METHOD:PUBLISH
X-PUBLISHED-TTL:P3D
REFRESH-INTERVAL:P3D
CALSCALE:GREGORIAN
BEGIN:VEVENT
DTSTART:20140709T130000Z
DTEND:20140709T200000Z
X-MICROSOFT-CDO-ALLDAYEVENT:FALSE
SUMMARY:C.R.E.E.K.
DESCRIPTION:Register Now for "A Day at the C.R.E.E.K."  Creative Recreational & Environmental Education for Kids Registration is now open for the Coalition's 2014 C.R.E.E.K. (Creative & Recreational Environmental Education for Kids) Program. The primary purpose of C.R.E.E.K. is to educate youth about basic water quality science information that can be shared with others. Each camp is oriented near a stream or river for a hands-on experience in conducting environmental research\, identifying native plants\, observing and cataloging native fish populations\, and conducting water quality experiments.
X-ALT-DESC;FMTTYPE=text/html:Register Now for &quot\;A Day at the C.R.E.E.K.&quot\;&nbsp\; Creative Recreational &amp\; Environmental Education for Kids Registration is now open for the Coalition&#39\;s 2014 C.R.E.E.K. (Creative &amp\; Recreational Environmental Education for Kids) Program. The primary purpose of C.R.E.E.K. is to educate youth about basic water quality science information that can be shared with others. Each camp is oriented near a stream or river for a hands-on experience in conducting environmental research\, identifying native plants\, observing and cataloging native fish populations\, and conducting water quality experiments.
LOCATION:Meeks Park Pavilion #3
UID:e.256.24593
SEQUENCE:3
DTSTAMP:20260424T091406Z
URL:https://members.visitblairsvillega.com/events/details/c-r-e-e-k-07-09-2014-24593
END:VEVENT

END:VCALENDAR
