BEGIN:VCALENDAR
VERSION:2.0
PRODID:-//ChamberMaster//Event Calendar 2.0//EN
METHOD:PUBLISH
X-PUBLISHED-TTL:P3D
REFRESH-INTERVAL:P3D
CALSCALE:GREGORIAN
BEGIN:VEVENT
DTSTART:20160930T180000Z
DTEND:20160930T230000Z
X-MICROSOFT-CDO-ALLDAYEVENT:FALSE
SUMMARY:C.W. Conner at The Craddock Center
DESCRIPTION:C.W. CONNER | The Craddock Center is pleased to present A Gallery of Folk Art featuring renowned folk artist C.W. Conner. A Georgia native and Ellijay resident\, Conner is a self-taught artist who has worked with painting\, drawing and wood carving over decades. His work is displayed at the Palmer Museum of Art at Penn State University and sold in galleries throughout the United States\, including High Country Art & Antique located in Blue Ridge\, Ga. A Gallery of Folk Art will be presented for drop-in viewing at The Craddock Center September 27th from 11:30 a.m.   1:30 p.m.\, September 29th from 1:00 p.m.   5:00 p.m. and a final showing on September 30th from 2:00 p.m.   7:00 p.m. Exhibited works from the famed artist are courtesy of private collectors who are friends of The Craddock Center and High Country Art & Antique.
X-ALT-DESC;FMTTYPE=text/html:C.W. CONNER | The Craddock Center is pleased to present A Gallery of Folk Art featuring renowned folk artist C.W. Conner. A Georgia native and Ellijay resident\, Conner is a self-taught artist who has worked with painting\, drawing and wood carving over decades. His work is displayed at the Palmer Museum of Art at Penn State University and sold in galleries throughout the United States\, including High Country Art &amp\; Antique located in Blue Ridge\, Ga. A Gallery of Folk Art will be presented for drop-in viewing at The Craddock Center September 27th from 11:30 a.m. &ndash\; 1:30 p.m.\, September 29th from 1:00 p.m. &ndash\; 5:00 p.m. and a final showing on September 30th from 2:00 p.m. &ndash\; 7:00 p.m. Exhibited works from the famed artist are courtesy of private collectors who are friends of The Craddock Center and High Country Art &amp\; Antique.
LOCATION:186 Fred Craddock Drive\, Cherry Log\, Ga. 30522
UID:e.256.57868
SEQUENCE:3
DTSTAMP:20260420T144324Z
URL:https://members.visitblairsvillega.com/events/details/c-w-conner-at-the-craddock-center-09-30-2016-57868
END:VEVENT

END:VCALENDAR
