BEGIN:VCALENDAR
VERSION:2.0
PRODID:-//ChamberMaster//Event Calendar 2.0//EN
METHOD:PUBLISH
X-PUBLISHED-TTL:P3D
REFRESH-INTERVAL:P3D
CALSCALE:GREGORIAN
BEGIN:VEVENT
DTSTART:20160507T110000Z
DTEND:20160507T203000Z
X-MICROSOFT-CDO-ALLDAYEVENT:FALSE
SUMMARY:Cabin Coffee Anniversary Celebration
DESCRIPTION:Cabin Coffee will be celebrating its one-year anniversary on Saturday\, May 7th.  The celebration includes free pastry samplings\, giveaways throughout the day and the opportunity to receive an extra 10% credit on your reward card when you load money onto the card.  Join us in celebrating our time in the wonderful town of Blairsville!
X-ALT-DESC;FMTTYPE=text/html:Cabin Coffee will be celebrating its one-year anniversary on Saturday\, May 7th.&nbsp\; The celebration includes free pastry samplings\, giveaways throughout the day and the opportunity to receive an extra 10% credit on your reward card when you load money onto the card.&nbsp\; Join us in celebrating our time in the wonderful town of Blairsville!
LOCATION:Cabin Coffee 44 Town Square Blairsville
UID:e.256.51056
SEQUENCE:3
DTSTAMP:20260421T002308Z
URL:https://members.visitblairsvillega.com/events/details/cabin-coffee-anniversary-celebration-05-07-2016-51056
END:VEVENT

END:VCALENDAR
