BEGIN:VCALENDAR
VERSION:2.0
PRODID:-//ChamberMaster//Event Calendar 2.0//EN
METHOD:PUBLISH
X-PUBLISHED-TTL:P3D
REFRESH-INTERVAL:P3D
CALSCALE:GREGORIAN
BEGIN:VEVENT
DTSTART;VALUE=DATE:20140529
DTEND;VALUE=DATE:20140530
TRANSP:TRANSPARENT
X-MICROSOFT-CDO-ALLDAYEVENT:TRUE
SUMMARY:Cactus Flower
DESCRIPTION:Cactus Flower by Abe Burrows\n\nA philandering dentist's effort to keep his many affairs at bay.\n\n philandering dentist keeps his many affairs at bay by claiming to be married with children. When the ruse threatens to catch up with him\, he drafts his prickly nurse to pose as his "wife". She blossoms and he finds himself falling in love with the lovely "cactus flower" right under his very nose. RATING PG-13\n\n\n\nDirected by: Tim Stanley\n\nDate: May 15 - June 1\n\nTime:   Thur - Sat - 7:30 pm\; Sun - 2:00pm\n\nphilandering dentist keeps his many affairs at bay by claiming to be married with children. When the ruse threatens to catch up with him\, he drafts his prickly nurse to pose as his "wife". She blossoms and he finds himself falling in love with the lovely "cactus flower" right under his very nose. RATING PG-13\n\n\n\nDirected by: Tim Stanley\n\nDate: May 15 - June 1\n\nTime:   Thur - Sat - 7:30 pm\; Sun - 2:00pm
X-ALT-DESC;FMTTYPE=text/html:Cactus Flower by Abe Burrows<br />\nA philandering dentist&#39\;s effort to keep his many affairs at bay.<br />\n<font color="#ffffff" face="Verdana" size="3">&nbsp\;philandering dentist keeps his many affairs at bay by claiming to be married with children. When the ruse threatens to catch up with him\, he drafts his prickly nurse to pose as his &quot\;wife&quot\;. She blossoms and he finds himself falling in love with the lovely &quot\;cactus flower&quot\; right under his very nose. RATING PG-13<br />\n<br />\nDirected by: Tim Stanley<br />\nDate: May 15 - June 1<br />\nTime:&nbsp\;</font>&nbsp\;<span style="color: rgb(255\, 255\, 255)\; line-height: 16pt\; font-family: verdana\; font-size: 11pt\;"> Thur - Sat - 7:30 pm\; Sun - 2:00pm</span><br />\n<font color="#ffffff" face="Verdana" size="3">philandering dentist keeps his many affairs at bay by claiming to be married with children. When the ruse threatens to catch up with him\, he drafts his prickly nurse to pose as his &quot\;wife&quot\;. She blossoms and he finds himself falling in love with the lovely &quot\;cactus flower&quot\; right under his very nose. RATING PG-13<br />\n<br />\nDirected by: Tim Stanley<br />\nDate: May 15 - June 1<br />\nTime:&nbsp\;</font>&nbsp\;<span style="color: rgb(255\, 255\, 255)\; line-height: 16pt\; font-family: verdana\; font-size: 11pt\;"> Thur - Sat - 7:30 pm\; Sun - 2:00pm</span><br />\n&nbsp\;
LOCATION:Blue Ridge Community Theater 2591 East FIrst Street Blue Ridge\, GA
UID:e.256.24455
SEQUENCE:3
DTSTAMP:20260424T120141Z
URL:https://members.visitblairsvillega.com/events/details/cactus-flower-05-29-2014-24455
END:VEVENT

END:VCALENDAR
