BEGIN:VCALENDAR
VERSION:2.0
PRODID:-//ChamberMaster//Event Calendar 2.0//EN
METHOD:PUBLISH
X-PUBLISHED-TTL:P3D
REFRESH-INTERVAL:P3D
CALSCALE:GREGORIAN
BEGIN:VEVENT
DTSTART:20150402T153000Z
DTEND:20150402T163000Z
X-MICROSOFT-CDO-ALLDAYEVENT:FALSE
SUMMARY:Canadian Rockies by Train Travel Presentation
DESCRIPTION:You are invited to a special travel informational presentation for our next community trip through the Canadian Rockies by train! This 9 day trip will be on October 19-27\, 2015. Come and discover the opportunity to go on this amazing trip!
X-ALT-DESC;FMTTYPE=text/html:You are invited to a special travel informational presentation for our next community trip through the Canadian Rockies by train! This 9 day trip will be on October 19-27\, 2015. Come and discover the opportunity to go on this amazing trip!
LOCATION:Union County Community Center 129 Union County Rec. Rd. Blairsville\, GA
UID:e.256.37633
SEQUENCE:3
DTSTAMP:20260423T212248Z
URL:https://members.visitblairsvillega.com/events/details/canadian-rockies-by-train-travel-presentation-04-02-2015-37633
END:VEVENT

END:VCALENDAR
