BEGIN:VCALENDAR
VERSION:2.0
PRODID:-//ChamberMaster//Event Calendar 2.0//EN
METHOD:PUBLISH
X-PUBLISHED-TTL:P3D
REFRESH-INTERVAL:P3D
CALSCALE:GREGORIAN
BEGIN:VEVENT
DTSTART:20160514T120000Z
DTEND:20160514T160000Z
X-MICROSOFT-CDO-ALLDAYEVENT:FALSE
SUMMARY:Canal Lake Bible Camp 5K Race
DESCRIPTION:Canal Lake Bible Camp is a camp that tells kids about Jesus. We are raising money by hosting a 5k run/ 1 mile fun run. It is 25 dollars for the 5k race and 15 dollars for 1 mile run. Sponsored by Zaxby's  in memory of Don Cummings.
X-ALT-DESC;FMTTYPE=text/html:Canal Lake Bible Camp is a camp that tells kids about Jesus. We are raising money by hosting a 5k run/ 1 mile fun run. It is 25 dollars for the 5k race and 15 dollars for 1 mile run. Sponsored by Zaxby&#39\;s &nbsp\;in memory of Don Cummings.
LOCATION:Meeks park
UID:e.256.50398
SEQUENCE:3
DTSTAMP:20260420T223156Z
URL:https://members.visitblairsvillega.com/events/details/canal-lake-bible-camp-5k-race-05-14-2016-50398
END:VEVENT

END:VCALENDAR
