BEGIN:VCALENDAR
VERSION:2.0
PRODID:-//ChamberMaster//Event Calendar 2.0//EN
METHOD:PUBLISH
X-PUBLISHED-TTL:P3D
REFRESH-INTERVAL:P3D
CALSCALE:GREGORIAN
BEGIN:VEVENT
DTSTART:20161208T190000Z
DTEND:20161208T200000Z
X-MICROSOFT-CDO-ALLDAYEVENT:FALSE
SUMMARY:Canceled - Groundbreaking Ceremony for Sears Hometown Store of Blairsville
DESCRIPTION:CANCELED DUE TO WEATHER. New date TBD.\n\n\n\nEveryone is invited to attend the groundbreaking ceremony for the new  Sears Hometown Store of Blairsville!
X-ALT-DESC;FMTTYPE=text/html:<strong><span style="color:#B22222\;">CANCELED DUE TO WEATHER. New date TBD.</span></strong><br />\n<br />\nEveryone is invited to attend the groundbreaking ceremony for the new &nbsp\;Sears Hometown Store of Blairsville!
LOCATION:East on Hwy 515 & take a right on Panther Circle Go to the top of the hill
UID:e.256.60500
SEQUENCE:3
DTSTAMP:20260420T113937Z
URL:https://members.visitblairsvillega.com/events/details/canceled-groundbreaking-ceremony-for-sears-hometown-store-of-blairsville-60500
END:VEVENT

END:VCALENDAR
