BEGIN:VCALENDAR
VERSION:2.0
PRODID:-//ChamberMaster//Event Calendar 2.0//EN
METHOD:PUBLISH
X-PUBLISHED-TTL:P3D
REFRESH-INTERVAL:P3D
CALSCALE:GREGORIAN
BEGIN:VEVENT
DTSTART:20170418T140000Z
DTEND:20170418T150000Z
X-MICROSOFT-CDO-ALLDAYEVENT:FALSE
SUMMARY:CANCELED - Ribbon Cutting for Lazy-R Personal Care Center
DESCRIPTION:The ribbon cutting scheduled for the Lazy-R Personal Care Center on Tuesday\, April 18 at 10 a.m. has been canceled.
X-ALT-DESC;FMTTYPE=text/html:The ribbon cutting scheduled for the Lazy-R Personal Care Center on Tuesday\, April 18 at 10 a.m. has been canceled.
LOCATION:81 Wellborn St Blairsville\, GA 30512
UID:e.256.66542
SEQUENCE:3
DTSTAMP:20260420T035324Z
URL:https://members.visitblairsvillega.com/events/details/canceled-ribbon-cutting-for-lazy-r-personal-care-center-66542
END:VEVENT

END:VCALENDAR
