BEGIN:VCALENDAR
VERSION:2.0
PRODID:-//ChamberMaster//Event Calendar 2.0//EN
METHOD:PUBLISH
X-PUBLISHED-TTL:P3D
REFRESH-INTERVAL:P3D
CALSCALE:GREGORIAN
BEGIN:VEVENT
DTSTART:20170714T190000Z
DTEND:20170714T200000Z
X-MICROSOFT-CDO-ALLDAYEVENT:FALSE
SUMMARY:Canceled - Ribbon Cutting for Snaptime Photo Booths
DESCRIPTION:Canceled - To be rescheduled.
X-ALT-DESC;FMTTYPE=text/html:Canceled - To be rescheduled.
LOCATION:Blairsville-Union County Chamber of Commerce 129 UC Recreation Rd. Blairsville\, GA 30512
UID:e.256.74184
SEQUENCE:3
DTSTAMP:20260419T213257Z
URL:https://members.visitblairsvillega.com/events/details/canceled-ribbon-cutting-for-snaptime-photo-booths-74184
END:VEVENT

END:VCALENDAR
