BEGIN:VCALENDAR
VERSION:2.0
PRODID:-//ChamberMaster//Event Calendar 2.0//EN
METHOD:PUBLISH
X-PUBLISHED-TTL:P3D
REFRESH-INTERVAL:P3D
CALSCALE:GREGORIAN
BEGIN:VEVENT
DTSTART:20170313T140000Z
DTEND:20170313T150000Z
X-MICROSOFT-CDO-ALLDAYEVENT:FALSE
SUMMARY:CANCELED - Ribbon Cutting for YSS Manufacturing
DESCRIPTION:This event has been canceled
X-ALT-DESC;FMTTYPE=text/html:This event has been canceled
LOCATION:Blairsville-Union County Chamber of Commerce 129 Union County Recreation Road Blairsville\, GA 30512
UID:e.256.65475
SEQUENCE:3
DTSTAMP:20260420T060144Z
URL:https://members.visitblairsvillega.com/events/details/canceled-ribbon-cutting-for-yss-manufacturing-65475
END:VEVENT

END:VCALENDAR
