BEGIN:VCALENDAR
VERSION:2.0
PRODID:-//ChamberMaster//Event Calendar 2.0//EN
METHOD:PUBLISH
X-PUBLISHED-TTL:P3D
REFRESH-INTERVAL:P3D
CALSCALE:GREGORIAN
BEGIN:VEVENT
DTSTART:20170912T153000Z
DTEND:20170912T163000Z
X-MICROSOFT-CDO-ALLDAYEVENT:FALSE
SUMMARY:Cancelled-Southern Highlands Employer Committee Meeting
DESCRIPTION:Due to Governor Deal declaring a State of Emergency for the State of Georgia\, the Department of Labor offices will be closed Monday and Tuesday (9/11 - 9/12).  Therefore\, we are canceling our Employer Committee Luncheon that was to be held this coming Tuesday\, September 12th.  If you have already paid for the luncheon\, we will follow up with you concerning future paid arrangements.
X-ALT-DESC;FMTTYPE=text/html:Due to Governor Deal declaring a State of Emergency for the State of Georgia\, the Department of Labor offices will be closed Monday and Tuesday (9/11 - 9/12).&nbsp\; Therefore\, we are canceling our Employer Committee Luncheon that was to be held this coming Tuesday\, September 12th.&nbsp\; If you have already paid for the luncheon\, we will follow up with you concerning future paid arrangements.<br />\n<br />\n<br />\n&nbsp\;
LOCATION:Georgia Department of Labor office Blue Ridge
UID:e.256.75999
SEQUENCE:3
DTSTAMP:20260419T193235Z
URL:https://members.visitblairsvillega.com/events/details/cancelled-southern-highlands-employer-committee-meeting-75999
END:VEVENT

END:VCALENDAR
