BEGIN:VCALENDAR
VERSION:2.0
PRODID:-//ChamberMaster//Event Calendar 2.0//EN
METHOD:PUBLISH
X-PUBLISHED-TTL:P3D
REFRESH-INTERVAL:P3D
CALSCALE:GREGORIAN
BEGIN:VEVENT
DTSTART:20140408T213000Z
DTEND:20140408T223000Z
X-MICROSOFT-CDO-ALLDAYEVENT:FALSE
SUMMARY:Cancer Prevention
DESCRIPTION:Multiple ways to reduce your cancer risks through simple lifestyle changes that can make a big difference.
X-ALT-DESC;FMTTYPE=text/html:Multiple ways to reduce your cancer risks through simple lifestyle changes that can make a big difference.
LOCATION:Union General Hospital\, 2nd Floor Classroom
UID:e.256.23324
SEQUENCE:3
DTSTAMP:20260424T133314Z
URL:https://members.visitblairsvillega.com/events/details/cancer-prevention-04-08-2014-23324
END:VEVENT

END:VCALENDAR
