BEGIN:VCALENDAR
VERSION:2.0
PRODID:-//ChamberMaster//Event Calendar 2.0//EN
METHOD:PUBLISH
X-PUBLISHED-TTL:P3D
REFRESH-INTERVAL:P3D
CALSCALE:GREGORIAN
BEGIN:VEVENT
DTSTART:20170802T100000Z
DTEND:20170802T160000Z
X-MICROSOFT-CDO-ALLDAYEVENT:FALSE
SUMMARY:Canning Plant
DESCRIPTION:A place to preserve and process all of your local fruits\, vegetables and meats.  Bring your jars\, lids\, rings\, and ingredients.  Use our state -of-the-art facility.
X-ALT-DESC;FMTTYPE=text/html:A place to preserve and process all of your local fruits\, vegetables and meats.&nbsp\; Bring your jars\, lids\, rings\, and&nbsp\;ingredients.&nbsp\; Use our state -of-the-art facility.
LOCATION:Union County Farmers Market\, Blairsville\, GA
UID:e.256.75323
SEQUENCE:3
DTSTAMP:20260419T194609Z
URL:https://members.visitblairsvillega.com/events/details/canning-plant-08-02-2017-75323
END:VEVENT

END:VCALENDAR
