BEGIN:VCALENDAR
VERSION:2.0
PRODID:-//ChamberMaster//Event Calendar 2.0//EN
METHOD:PUBLISH
X-PUBLISHED-TTL:P3D
REFRESH-INTERVAL:P3D
CALSCALE:GREGORIAN
BEGIN:VEVENT
DTSTART:20151215T190000Z
DTEND:20151215T200000Z
X-MICROSOFT-CDO-ALLDAYEVENT:FALSE
SUMMARY:Cardiac Support Group
DESCRIPTION:Have you had an MI\, Stent\, or CABG??\n\nDr Jerry Porter will educate us on cardiac interventions such as cardiac stents\, CABG\, or open heart surgery.
X-ALT-DESC;FMTTYPE=text/html:Have you had an MI\, Stent\, or CABG??<br>\nDr Jerry Porter will educate us on cardiac interventions such as cardiac stents\, CABG\, or open heart surgery.
LOCATION:Union General Hospital 2nd floor classroom
UID:e.256.40330
SEQUENCE:3
DTSTAMP:20260421T073848Z
URL:https://members.visitblairsvillega.com/events/details/cardiac-support-group-12-15-2015-40330
END:VEVENT

END:VCALENDAR
