BEGIN:VCALENDAR
VERSION:2.0
PRODID:-//ChamberMaster//Event Calendar 2.0//EN
METHOD:PUBLISH
X-PUBLISHED-TTL:P3D
REFRESH-INTERVAL:P3D
CALSCALE:GREGORIAN
BEGIN:VEVENT
DTSTART:20160927T140000Z
DTEND:20160927T180000Z
X-MICROSOFT-CDO-ALLDAYEVENT:FALSE
SUMMARY:Career Coach - Ga Mountains Regional Commission Workforce Development
DESCRIPTION:Need assistance during your job search?  Want to attend school to further your education?  Let us help you reach your goals!!!  Visit our Mobile Career Coach to:  1) Search and apply for jobs online\;  2)  Create resumes and cover letters\;  3) Take career surveys and assessments\;  4) Learn and practice workforce skills\; 5) All services provided free of charge!!!
X-ALT-DESC;FMTTYPE=text/html:Need assistance during your job search? &nbsp\;Want to attend school to further your education? &nbsp\;Let us help you reach your goals!!! &nbsp\;Visit our Mobile Career Coach to: &nbsp\;1) Search and apply for jobs online\; &nbsp\;2) &nbsp\;Create resumes and cover letters\; &nbsp\;3) Take career surveys and assessments\; &nbsp\;4) Learn and practice workforce skills\; 5) All services provided free of charge!!!
LOCATION:Union County Library 303 Hunt Martin Street Blairsville Ga 30512
UID:e.256.58180
SEQUENCE:3
DTSTAMP:20260420T144244Z
URL:https://members.visitblairsvillega.com/events/details/career-coach-ga-mountains-regional-commission-workforce-development-58180
END:VEVENT

END:VCALENDAR
