BEGIN:VCALENDAR
VERSION:2.0
PRODID:-//ChamberMaster//Event Calendar 2.0//EN
METHOD:PUBLISH
X-PUBLISHED-TTL:P3D
REFRESH-INTERVAL:P3D
CALSCALE:GREGORIAN
BEGIN:VEVENT
DTSTART:20170328T140000Z
DTEND:20170328T180000Z
X-MICROSOFT-CDO-ALLDAYEVENT:FALSE
SUMMARY:Career Coach Visits Union County Library
DESCRIPTION:The WorkSource Georgia Mountains Career Coach will visit the Union County Library. We will help local residents search & apply for jobs\, write resumes & cover letters\, and discern their career interests. We will also provide information about WIOA funded training opportunities.
X-ALT-DESC;FMTTYPE=text/html:The WorkSource Georgia Mountains Career Coach will visit the Union County Library. We will help local residents search &amp\; apply for jobs\, write resumes &amp\; cover letters\, and discern their career interests. We will also provide information about WIOA funded training opportunities.
LOCATION:303 Hunt Martin Street Blairsville\, Georgia
UID:e.256.69119
SEQUENCE:3
DTSTAMP:20260420T060134Z
URL:https://members.visitblairsvillega.com/events/details/career-coach-visits-union-county-library-03-28-2017-69119
END:VEVENT

END:VCALENDAR
