BEGIN:VCALENDAR
VERSION:2.0
PRODID:-//ChamberMaster//Event Calendar 2.0//EN
METHOD:PUBLISH
X-PUBLISHED-TTL:P3D
REFRESH-INTERVAL:P3D
CALSCALE:GREGORIAN
BEGIN:VEVENT
DTSTART:20160726T140000Z
DTEND:20160726T180000Z
X-MICROSOFT-CDO-ALLDAYEVENT:FALSE
SUMMARY:Career Coach Visits Union County Library
DESCRIPTION:The Georgia Mountains Regional Commission Workforce Development is ready to assist you with your job search or help you to attend school to further your education!!  Let us help you reach your goals!!!  Visit our Mobile Career Coach to: 1) Search and apply for jobs online\; 2) Create resumes and cover letters\; 3)Take career surveys and assessments\; 4) Learn and practice workforce skills.  And all services are provided free of charge!!!!
X-ALT-DESC;FMTTYPE=text/html:The Georgia Mountains Regional Commission Workforce Development is ready to assist you&nbsp\;with your job search or help you to attend school to further your education!!&nbsp\; Let us help you reach your goals!!!&nbsp\; Visit our Mobile Career Coach to: 1) Search and apply for jobs online\; 2) Create resumes and cover letters\; 3)Take career surveys and assessments\; 4) Learn and practice workforce skills.&nbsp\; And all services are provided free of charge!!!!
LOCATION:Union County Library\, 303 Hunt Martin Street\, Blairsville Ga
UID:e.256.53654
SEQUENCE:3
DTSTAMP:20260420T183929Z
URL:https://members.visitblairsvillega.com/events/details/career-coach-visits-union-county-library-07-26-2016-53654
END:VEVENT

END:VCALENDAR
