BEGIN:VCALENDAR
VERSION:2.0
PRODID:-//ChamberMaster//Event Calendar 2.0//EN
METHOD:PUBLISH
X-PUBLISHED-TTL:P3D
REFRESH-INTERVAL:P3D
CALSCALE:GREGORIAN
BEGIN:VEVENT
DTSTART:20161129T150000Z
DTEND:20161129T190000Z
X-MICROSOFT-CDO-ALLDAYEVENT:FALSE
SUMMARY:Career Coach Visits Union County Library
DESCRIPTION:Do you need assistance during your job search or additional training to update/upgrade you skill set?  Visit the Mobile Career Coach to:  1) Search and apply for jobs online\; 2) Create resumes and cover letters\; 3) Take career surveys and assessments\; 4) Learn and practice workforce skills.  ALL SERVICES PROVIDED FREE OF CHARGE!
X-ALT-DESC;FMTTYPE=text/html:Do you need assistance during your job search or additional training to update/upgrade you skill set? &nbsp\;Visit the Mobile Career Coach to: &nbsp\;1) Search and apply for jobs online\; 2) Create resumes and cover letters\; 3) Take career surveys and assessments\; 4) Learn and practice workforce skills. &nbsp\;ALL SERVICES PROVIDED FREE OF CHARGE!
LOCATION:Union County Library\, 303 Hunt Martin Street\, Blairsville Ga 30512
UID:e.256.59717
SEQUENCE:3
DTSTAMP:20260420T112819Z
URL:https://members.visitblairsvillega.com/events/details/career-coach-visits-union-county-library-59717
END:VEVENT

END:VCALENDAR
