BEGIN:VCALENDAR
VERSION:2.0
PRODID:-//ChamberMaster//Event Calendar 2.0//EN
METHOD:PUBLISH
X-PUBLISHED-TTL:P3D
REFRESH-INTERVAL:P3D
CALSCALE:GREGORIAN
BEGIN:VEVENT
DTSTART:20171128T150000Z
DTEND:20171128T190000Z
X-MICROSOFT-CDO-ALLDAYEVENT:FALSE
SUMMARY:Career Coach Visits Union County Library
DESCRIPTION:We can help you search & apply for jobs\, write resumes & cover letters\, and explore your career interests. We can also provide information about tuition assistance & on-the-job training programs. Please share this event with anyone else that might also benefit from our assistance.
X-ALT-DESC;FMTTYPE=text/html:We can help you search &amp\; apply for jobs\, write resumes &amp\; cover letters\, and explore your career interests. We can also provide information about tuition assistance &amp\; on-the-job training programs. Please share this event with anyone else that might also benefit from our assistance.
LOCATION:Union County Library 303 Hunt Martin St Blairsville\, GA 30512
UID:e.256.77030
SEQUENCE:3
DTSTAMP:20260419T155727Z
URL:https://members.visitblairsvillega.com/events/details/career-coach-visits-union-county-library-77030
END:VEVENT

END:VCALENDAR
