BEGIN:VCALENDAR
VERSION:2.0
PRODID:-//ChamberMaster//Event Calendar 2.0//EN
METHOD:PUBLISH
X-PUBLISHED-TTL:P3D
REFRESH-INTERVAL:P3D
CALSCALE:GREGORIAN
BEGIN:VEVENT
DTSTART:20141025T233000Z
DTEND:20141026T020000Z
X-MICROSOFT-CDO-ALLDAYEVENT:FALSE
SUMMARY:Caroline Aiken in Concert
DESCRIPTION:Atlanta native\,  Caroline Aiken\,  spent her early years on the GA coast is in concert on Saturday\, October 25. As a singer/song writer and multi-instrumentalist\, Aiken's earliest musical influence was Emma Lee Ramsey of the GA Sea Island Singers. A gifted musician\, Aiken began performing across the globe in 1969.  After years of touring: the U.S. South America\, and Europe\, she moved back to Atlanta in 1986\, where her bluesy voice\, masterful finger picking guitar style\, and hypnotizing stage presence anchored the city's acoustic and folk scene and influenced up and coming artists like the Indigo Girls.  She continues to tour nationally/internationally\, and teaches "ZEN and the ART of PERFORMANCE"\, "Song Writing In Your Sleep" and "Guerilla Guitar Works".  More information at www.carolineaiken.com. Live Music Is Better concert series is sponsored by the Blue Ridge Community Theater\, Inc. a 501- (c) 3 volunteer based non-profit corporation committed to bringing excellent performing arts entertainment to the North Georgia communities. For more information about Main Stage productions\, Sunny D Children's Theater or the music concert series go to www.BlueRidgeCommunityTheater.com.
X-ALT-DESC;FMTTYPE=text/html:Atlanta native\, &nbsp\;Caroline Aiken\, &nbsp\;spent her early years on the GA coast is in concert on Saturday\, October 25. As a singer/song writer and multi-instrumentalist\, Aiken&#39\;s earliest musical influence was Emma Lee Ramsey of the GA Sea Island Singers. A gifted musician\, Aiken began performing across the globe in 1969.&nbsp\;&nbsp\;After years of touring: the U.S. South America\, and Europe\, she moved back to Atlanta in 1986\, where her bluesy voice\, masterful finger picking guitar style\, and hypnotizing stage presence anchored the city&#39\;s acoustic and folk scene and influenced up and coming artists like the Indigo Girls. &nbsp\;She continues to tour nationally/internationally\, and teaches &quot\;ZEN and the ART of PERFORMANCE&quot\;\, &quot\;Song Writing In Your Sleep&quot\; and &quot\;Guerilla Guitar Works&quot\;. &nbsp\;More information at www.carolineaiken.com. Live Music Is Better concert series is sponsored by the Blue Ridge Community Theater\, Inc. a 501- (c) 3 volunteer based non-profit corporation committed to bringing excellent performing arts entertainment to the North Georgia communities. For more information about Main Stage productions\, Sunny D Children&#39\;s Theater or the music concert series go to www.BlueRidgeCommunityTheater.com. &nbsp\; &nbsp\; 
LOCATION:Blue Ridge Community Theater 2591 East First Street Blue Ridge\, GA
UID:e.256.23657
SEQUENCE:3
DTSTAMP:20260424T061525Z
URL:https://members.visitblairsvillega.com/events/details/caroline-aiken-in-concert-10-25-2014-23657
END:VEVENT

END:VCALENDAR
